BEGIN:VCALENDAR
VERSION:2.0
PRODID:-//VOiD Applications - ECPv6.15.10//NONSGML v1.0//EN
CALSCALE:GREGORIAN
METHOD:PUBLISH
X-WR-CALNAME:VOiD Applications
X-ORIGINAL-URL:https://voidapplications.co.uk
X-WR-CALDESC:Events for VOiD Applications
REFRESH-INTERVAL;VALUE=DURATION:PT1H
X-Robots-Tag:noindex
X-PUBLISHED-TTL:PT1H
BEGIN:VTIMEZONE
TZID:Europe/London
BEGIN:DAYLIGHT
TZOFFSETFROM:+0000
TZOFFSETTO:+0100
TZNAME:BST
DTSTART:20240331T010000
END:DAYLIGHT
BEGIN:STANDARD
TZOFFSETFROM:+0100
TZOFFSETTO:+0000
TZNAME:GMT
DTSTART:20241027T010000
END:STANDARD
BEGIN:DAYLIGHT
TZOFFSETFROM:+0000
TZOFFSETTO:+0100
TZNAME:BST
DTSTART:20250330T010000
END:DAYLIGHT
BEGIN:STANDARD
TZOFFSETFROM:+0100
TZOFFSETTO:+0000
TZNAME:GMT
DTSTART:20251026T010000
END:STANDARD
BEGIN:DAYLIGHT
TZOFFSETFROM:+0000
TZOFFSETTO:+0100
TZNAME:BST
DTSTART:20260329T010000
END:DAYLIGHT
BEGIN:STANDARD
TZOFFSETFROM:+0100
TZOFFSETTO:+0000
TZNAME:GMT
DTSTART:20261025T010000
END:STANDARD
BEGIN:DAYLIGHT
TZOFFSETFROM:+0000
TZOFFSETTO:+0100
TZNAME:BST
DTSTART:20270328T010000
END:DAYLIGHT
BEGIN:STANDARD
TZOFFSETFROM:+0100
TZOFFSETTO:+0000
TZNAME:GMT
DTSTART:20271031T010000
END:STANDARD
END:VTIMEZONE
BEGIN:VEVENT
DTSTART;TZID=Europe/London:20260227T100000
DTEND;TZID=Europe/London:20260227T120000
DTSTAMP:20260424T174852
CREATED:20260119T120813Z
LAST-MODIFIED:20260306T110230Z
UID:10000003-1772186400-1772193600@voidapplications.co.uk
SUMMARY:SEO Essentials: Making Online Search Work for Your Business
DESCRIPTION:Whether you’re new to SEO or revisiting the fundamentals\, this seminar shows how to make online search work for your business.\n\nView on Eventbrite \nSearch engines play a critical role in how customers discover businesses online. But with constant changes to algorithms\, user behaviour\, and the rise of AI in search\, it’s easy to lose sight of what actually drives results. \n‘SEO Essentials: Making Online Search Work for Your Business‘ is a practical\, business-focused seminar designed to help you understand how search works today and how to use it to support real business goals. \nIn this session\, we’ll break SEO down into clear\, actionable principles\, covering: \n\nUnderstanding search intent and how people look for your services\nImproving visibility and rankings without chasing trends\nHow research\, optimisation\, and monitoring work together\nFoundational SEO tips every business website should get right\nCommon mistakes that limit performance and how to avoid them\n\nWhether SEO is new to you or something you’ve worked with before\, the session is designed to meet you where you are and build from there\, with real-world examples and takeaways you can apply to your own website\, regardless of industry or budget. \nThe session will be delivered via a presentation\, followed by an open Q&A\, giving you the opportunity to ask questions and explore how SEO applies specifically to your business. \nWhether you manage your own website\, oversee marketing activity\, or simply want a clearer understanding of how search supports business growth\, you’ll leave with a stronger grasp of SEO and how to make online search work for you.
URL:https://voidapplications.co.uk/event/seo-essentials-feb/
LOCATION:Dudley Archives and Local History Centre\, Tipton Road\, Dudley\, England\, DY1 4SQ\, United Kingdom
ATTACH;FMTTYPE=image/jpeg:https://voidapplications.co.uk/wp-content/uploads/2026/01/d601aa0a045aa345df709aac0844fe27-BIJg0t.tmp_.jpg
END:VEVENT
BEGIN:VEVENT
DTSTART;TZID=Europe/London:20251014T100000
DTEND;TZID=Europe/London:20251014T120000
DTSTAMP:20260424T174852
CREATED:20250822T143942Z
LAST-MODIFIED:20260306T110246Z
UID:10000001-1760436000-1760443200@voidapplications.co.uk
SUMMARY:SEO Essentials in the AI Revolution
DESCRIPTION:Learn how to boost your website’s visibility in search engines using essential SEO techniques in the rapidly evolving world of AI.\n\n\nLearn how to boost your website’s visibility in search engines using essential SEO techniques in the rapidly evolving world of AI. \nSearch engines are changing\, and AI is leading the charge. From Google’s AI-powered search results to content creation tools\, the way people find and engage with businesses online is shifting fast. If you want your business to stay visible and competitive\, you need to understand how SEO works in this new environment. \nIn this seminar\, we’ll show you how to take control of your online presence and make sure your website is ready for the future. We’ll cover: \n\nThe SEO fundamentals that still make the biggest impact.\nHow AI is changing search and what that means for your website.\nUsing site content and news to strengthen authority.\nCommon mistakes that hurt search rankings and how to avoid them.\nPractical\, actionable steps you can start using right away.\n\nThe session will include a presentation followed by a Q&A\, so you can get answers tailored to your business and industry. \nIf you’re responsible for your organisation’s website\, marketing\, or content\, you’ll leave with a clearer understanding of SEO today – and how to use it to grow your business in the AI era.
URL:https://voidapplications.co.uk/event/seo-essentials-in-the-ai-revolution/
LOCATION:Dudley Archives and Local History Centre\, Tipton Road\, Dudley\, England\, DY1 4SQ\, United Kingdom
ATTACH;FMTTYPE=image/jpeg:https://voidapplications.co.uk/wp-content/uploads/2025/08/85b71569616004c19b2344722e15635e-IgPz72.tmp_.jpg
END:VEVENT
END:VCALENDAR